BEGIN:VCALENDAR
VERSION:2.0
PRODID:-//Ninolab - ECPv6.15.20//NONSGML v1.0//EN
CALSCALE:GREGORIAN
METHOD:PUBLISH
X-ORIGINAL-URL:https://www.ninolab.se
X-WR-CALDESC:Händelser för Ninolab
REFRESH-INTERVAL;VALUE=DURATION:PT1H
X-Robots-Tag:noindex
X-PUBLISHED-TTL:PT1H
BEGIN:VTIMEZONE
TZID:Europe/Stockholm
BEGIN:DAYLIGHT
TZOFFSETFROM:+0100
TZOFFSETTO:+0200
TZNAME:CEST
DTSTART:20250330T010000
END:DAYLIGHT
BEGIN:STANDARD
TZOFFSETFROM:+0200
TZOFFSETTO:+0100
TZNAME:CET
DTSTART:20251026T010000
END:STANDARD
BEGIN:DAYLIGHT
TZOFFSETFROM:+0100
TZOFFSETTO:+0200
TZNAME:CEST
DTSTART:20260329T010000
END:DAYLIGHT
BEGIN:STANDARD
TZOFFSETFROM:+0200
TZOFFSETTO:+0100
TZNAME:CET
DTSTART:20261025T010000
END:STANDARD
BEGIN:DAYLIGHT
TZOFFSETFROM:+0100
TZOFFSETTO:+0200
TZNAME:CEST
DTSTART:20270328T010000
END:DAYLIGHT
BEGIN:STANDARD
TZOFFSETFROM:+0200
TZOFFSETTO:+0100
TZNAME:CET
DTSTART:20271031T010000
END:STANDARD
END:VTIMEZONE
BEGIN:VEVENT
DTSTART;TZID=Europe/Stockholm:20260226T090000
DTEND;TZID=Europe/Stockholm:20260226T150000
DTSTAMP:20260421T133902
CREATED:20260213T141151Z
LAST-MODIFIED:20260213T141151Z
UID:35012-1772096400-1772118000@www.ninolab.se
SUMMARY:MInimässa Biomedicum
DESCRIPTION:Välkommen AB Ninolabs miniuställning på Biomedicum. \nPå torsdag mellan 09.00 och 15.00 har vi en miniuställning på Biomedicum vid Karolinska Institutet. \nKom förbi och prata med våra produktspecialister om vår produkt och tjänstubud
URL:https://www.ninolab.se/event/minimassa-biomedicum/
LOCATION:Biomedicum\, Solnavägen 9\, Solna\, Stockholm\, 171 65\, Sweden
END:VEVENT
END:VCALENDAR